BEGIN:VCALENDAR
VERSION:2.0
PRODID:-//OmniMagnetCalendar//EN
BEGIN:VEVENT
DTSTAMP:20190625T195740Z
STATUS:CONFIRMED
UID:suburban.illiniclub.org426
DTSTART:20251009T141518Z
DTEND:20261231T151528Z
LOCATION:
SUMMARY:Sponsor Spotlight:  U of I Community Credit Union
DESCRIPTION:The Suburban Illini Club is proud to announce our partnership with U of I Community Credit Union.  Being a member of our Illini family, means you'll enjoy all the benefits of being a part of theirs.
BEGIN:VALARM
TRIGGER:-PT15M
ACTION:DISPLAY
END:VALARM
TRANSP:OPAQUE
END:VEVENT
END:VCALENDAR
