BEGIN:VCALENDAR
VERSION:2.0
PRODID:-//OmniMagnetCalendar//EN
BEGIN:VEVENT
DTSTAMP:20190625T195740Z
STATUS:CONFIRMED
UID:suburban.illiniclub.org427
DTSTART:20260501T141518Z
DTEND:20260630T141528Z
LOCATION:
SUMMARY:Sponsor Spotlight:  NextName
DESCRIPTION:The Suburban Illini Club is proud to announce our partnership with NextName.  NextName supports athletes, elevates their brands, and empower fans the support them by providing innovative, real-world opportunities to do so, as well as celebrate the unique
BEGIN:VALARM
TRIGGER:-PT15M
ACTION:DISPLAY
END:VALARM
TRANSP:OPAQUE
END:VEVENT
END:VCALENDAR
