BEGIN:VCALENDAR
VERSION:2.0
PRODID:-//OmniMagnetCalendar//EN
BEGIN:VEVENT
DTSTAMP:20190625T195740Z
STATUS:CONFIRMED
UID:suburban.illiniclub.org437
DTSTART:20260509T160000Z
DTEND:20260509T200000Z
LOCATION:Brookfield Zoo, 3300 Golf Road, Brookfield, IL, 60513,
SUMMARY:Orange and Blue at the Zoo
DESCRIPTION:Save the date for our annual event at the Brookfield Zoo. We will have more details coming soon!
BEGIN:VALARM
TRIGGER:-PT15M
ACTION:DISPLAY
END:VALARM
TRANSP:OPAQUE
END:VEVENT
END:VCALENDAR
